BEGIN:VCALENDAR
VERSION:2.0
PRODID:-//ddaysoftware.com//NONSGML DDay.iCal 1.0//EN
BEGIN:VTIMEZONE
TZID:W. Europe Standard Time
BEGIN:STANDARD
DTSTART:20251002T030000
RRULE:FREQ=YEARLY;BYDAY=-1SU;BYHOUR=3;BYMINUTE=0;BYMONTH=10
TZNAME:W. Europe Standard Time
TZOFFSETFROM:+0200
TZOFFSETTO:+0100
END:STANDARD
BEGIN:DAYLIGHT
DTSTART:20250301T020000
RRULE:FREQ=YEARLY;BYDAY=-1SU;BYHOUR=2;BYMINUTE=0;BYMONTH=3
TZNAME:W. Europe Daylight Time
TZOFFSETFROM:+0100
TZOFFSETTO:+0200
END:DAYLIGHT
END:VTIMEZONE
BEGIN:VEVENT
CATEGORIES:Sport
DESCRIPTION:Mürschter Fussball Cup für Junioren\n\nVeranstalter: TSV Münner
 stadt\n\nhttps://www.muennerstadt.de/aktuelles/veranstaltungen/100-jahre-f
 ussball-jugendturniere-mit-anschl-abendprogramm/
DTEND;VALUE=DATE:20260719
DTSTAMP:20260421T185952Z
DTSTART;VALUE=DATE:20260718
LOCATION:Sportzentrum Münnerstadt: Am Kleinfeldlein 1\, 97702 Münnerstadt
SEQUENCE:0
SUMMARY:100 Jahre Fussball - Jugendturniere mit anschl. Abendprogramm
UID:16488
URL:https://www.muennerstadt.de/aktuelles/veranstaltungen/100-jahre-fussbal
 l-jugendturniere-mit-anschl-abendprogramm/
END:VEVENT
END:VCALENDAR
