BEGIN:VCALENDAR
VERSION:2.0
PRODID:-//ddaysoftware.com//NONSGML DDay.iCal 1.0//EN
BEGIN:VTIMEZONE
TZID:W. Europe Standard Time
BEGIN:STANDARD
DTSTART:20251002T030000
RRULE:FREQ=YEARLY;BYDAY=-1SU;BYHOUR=3;BYMINUTE=0;BYMONTH=10
TZNAME:W. Europe Standard Time
TZOFFSETFROM:+0200
TZOFFSETTO:+0100
END:STANDARD
BEGIN:DAYLIGHT
DTSTART:20250301T020000
RRULE:FREQ=YEARLY;BYDAY=-1SU;BYHOUR=2;BYMINUTE=0;BYMONTH=3
TZNAME:W. Europe Daylight Time
TZOFFSETFROM:+0100
TZOFFSETTO:+0200
END:DAYLIGHT
END:VTIMEZONE
BEGIN:VEVENT
CATEGORIES:Sport
DESCRIPTION:Neu! Ab 9. Juni jeden Dienstag\, 20:00 - 22:00 Uhr.\n\nVeransta
 lter: TSV Münnerstadt\n\nhttps://www.muennerstadt.de/aktuelles/veranstaltu
 ngen/angebotsstart-volleyball-hobby-training-mixed/
DTEND;VALUE=DATE:20260610
DTSTAMP:20260422T183200Z
DTSTART;VALUE=DATE:20260609
LOCATION:Mehrzweckhalle: Am Kleinfeldlein\, 97702 Münnerstadt
SEQUENCE:0
SUMMARY:Angebotsstart: Volleyball Hobby-Training (Mixed)
UID:16569
URL:https://www.muennerstadt.de/aktuelles/veranstaltungen/angebotsstart-vol
 leyball-hobby-training-mixed/
END:VEVENT
END:VCALENDAR
