BEGIN:VCALENDAR
VERSION:2.0
PRODID:-//ddaysoftware.com//NONSGML DDay.iCal 1.0//EN
BEGIN:VTIMEZONE
TZID:W. Europe Standard Time
BEGIN:STANDARD
DTSTART:20251002T030000
RRULE:FREQ=YEARLY;BYDAY=-1SU;BYHOUR=3;BYMINUTE=0;BYMONTH=10
TZNAME:W. Europe Standard Time
TZOFFSETFROM:+0200
TZOFFSETTO:+0100
END:STANDARD
BEGIN:DAYLIGHT
DTSTART:20250301T020000
RRULE:FREQ=YEARLY;BYDAY=-1SU;BYHOUR=2;BYMINUTE=0;BYMONTH=3
TZNAME:W. Europe Daylight Time
TZOFFSETFROM:+0100
TZOFFSETTO:+0200
END:DAYLIGHT
END:VTIMEZONE
BEGIN:VEVENT
CATEGORIES:Fest
DESCRIPTION:\n\nhttps://www.muennerstadt.de/aktuelles/veranstaltungen/gebur
 tstagsparty-30-jahre-netzwerk-fuer-soziale-dienste-e-v/
DTEND;VALUE=DATE:20260509
DTSTAMP:20260423T182930Z
DTSTART;VALUE=DATE:20260508
LOCATION:Kleinwenkheim: Kleinwenkheim\, 97702 Münnerstadt
SEQUENCE:0
SUMMARY:Geburtstagsparty 30 Jahre Netzwerk für soziale Dienste e. V.
UID:16573
URL:https://www.muennerstadt.de/aktuelles/veranstaltungen/geburtstagsparty-
 30-jahre-netzwerk-fuer-soziale-dienste-e-v/
END:VEVENT
END:VCALENDAR
