BEGIN:VCALENDAR
VERSION:2.0
PRODID:-//ddaysoftware.com//NONSGML DDay.iCal 1.0//EN
BEGIN:VTIMEZONE
TZID:W. Europe Standard Time
BEGIN:STANDARD
DTSTART:20251002T030000
RRULE:FREQ=YEARLY;BYDAY=-1SU;BYHOUR=3;BYMINUTE=0;BYMONTH=10
TZNAME:W. Europe Standard Time
TZOFFSETFROM:+0200
TZOFFSETTO:+0100
END:STANDARD
BEGIN:DAYLIGHT
DTSTART:20250301T020000
RRULE:FREQ=YEARLY;BYDAY=-1SU;BYHOUR=2;BYMINUTE=0;BYMONTH=3
TZNAME:W. Europe Daylight Time
TZOFFSETFROM:+0100
TZOFFSETTO:+0200
END:DAYLIGHT
END:VTIMEZONE
BEGIN:VEVENT
CATEGORIES:Fest
DESCRIPTION:Ein Dorf feiert sein Jubiläum\n\nhttps://www.muennerstadt.de/ak
 tuelles/veranstaltungen/jubilaeum-seubrigshausen/
DTEND:20260622T000000
DTSTAMP:20260420T051503Z
DTSTART;VALUE=DATE:20260620
LOCATION:Seubrigshausen: Seubrigshausen\, 97702 Münnerstadt
SEQUENCE:0
SUMMARY:900 Jahre Seubrigshausen + 150 Jahre Feuerwehr
UID:16105
URL:https://www.muennerstadt.de/aktuelles/veranstaltungen/jubilaeum-seubrig
 shausen/
END:VEVENT
END:VCALENDAR
