BEGIN:VCALENDAR
VERSION:2.0
PRODID:-//ddaysoftware.com//NONSGML DDay.iCal 1.0//EN
BEGIN:VTIMEZONE
TZID:W. Europe Standard Time
BEGIN:STANDARD
DTSTART:20251002T030000
RRULE:FREQ=YEARLY;BYDAY=-1SU;BYHOUR=3;BYMINUTE=0;BYMONTH=10
TZNAME:W. Europe Standard Time
TZOFFSETFROM:+0200
TZOFFSETTO:+0100
END:STANDARD
BEGIN:DAYLIGHT
DTSTART:20250301T020000
RRULE:FREQ=YEARLY;BYDAY=-1SU;BYHOUR=2;BYMINUTE=0;BYMONTH=3
TZNAME:W. Europe Daylight Time
TZOFFSETFROM:+0100
TZOFFSETTO:+0200
END:DAYLIGHT
END:VTIMEZONE
BEGIN:VEVENT
CATEGORIES:Gespräch/Diskussion/Vortrag
CATEGORIES:Führung
CATEGORIES:Bildung und Geschichte
DESCRIPTION:Dr. Claudia Lichte\, frühere Direktorin des Mainfränkischen Mus
 eums\, Würzburg\, stellt den berühmten Hochaltar von Tilman Riemenschneide
 r vor\n\nVeranstalter: Kath. Pfarrei St. Maria Magdalena\n\nhttps://www.mu
 ennerstadt.de/aktuelles/veranstaltungen/schatzkaestlein-st-maria-magdalena
 /
DTEND:20260528T203000
DTSTAMP:20260422T010932Z
DTSTART:20260528T193000
LOCATION:Stadtpfarrkirche St. Maria Magdalena: Kirchplatz\, 97702 Münnersta
 dt
SEQUENCE:0
SUMMARY:Schatzkästlein St. Maria Magdalena – Riemenschneideraltar
UID:16377
URL:https://www.muennerstadt.de/aktuelles/veranstaltungen/schatzkaestlein-s
 t-maria-magdalena/
END:VEVENT
END:VCALENDAR
