BEGIN:VCALENDAR
VERSION:2.0
PRODID:-//ddaysoftware.com//NONSGML DDay.iCal 1.0//EN
BEGIN:VTIMEZONE
TZID:W. Europe Standard Time
BEGIN:STANDARD
DTSTART:20251002T030000
RRULE:FREQ=YEARLY;BYDAY=-1SU;BYHOUR=3;BYMINUTE=0;BYMONTH=10
TZNAME:W. Europe Standard Time
TZOFFSETFROM:+0200
TZOFFSETTO:+0100
END:STANDARD
BEGIN:DAYLIGHT
DTSTART:20250301T020000
RRULE:FREQ=YEARLY;BYDAY=-1SU;BYHOUR=2;BYMINUTE=0;BYMONTH=3
TZNAME:W. Europe Daylight Time
TZOFFSETFROM:+0100
TZOFFSETTO:+0200
END:DAYLIGHT
END:VTIMEZONE
BEGIN:VEVENT
CATEGORIES:Brauchtum
DESCRIPTION:\n\nVeranstalter: Sängerkranz Reichenbach\n\nhttps://www.muenne
 rstadt.de/aktuelles/veranstaltungen/tanz-um-den-maibaum-2/
DTEND;VALUE=DATE:20260502
DTSTAMP:20260423T081227Z
DTSTART;VALUE=DATE:20260501
LOCATION:Dorfmitte Reichenbach: 97702 Reichenbach
SEQUENCE:0
SUMMARY:Tanz um den Maibaum
UID:16567
URL:https://www.muennerstadt.de/aktuelles/veranstaltungen/tanz-um-den-maiba
 um-2/
END:VEVENT
END:VCALENDAR
